BEGIN:VCALENDAR
VERSION:2.0
PRODID:-//Erasmus University Rotterdam//Event calender//EN
X-WR-TIMEZONE:Europe/Amsterdam
X-WR-CALNAME:Erasmus University Rotterdam - Event calender
BEGIN:VTIMEZONE
TZID:Europe/Amsterdam
X-LIC-LOCATION:Europe/Amsterdam
BEGIN:DAYLIGHT
TZOFFSETFROM:+0100
TZOFFSETTO:+0200
TZNAME:CEST
DTSTART:19700329T020000
RRULE:FREQ=YEARLY;BYMONTH=3;BYDAY=-1SU
END:DAYLIGHT
BEGIN:STANDARD
TZOFFSETFROM:+0200
TZOFFSETTO:+0100
TZNAME:CET
DTSTART:19701025T030000
RRULE:FREQ=YEARLY;BYMONTH=10;BYDAY=-1SU
END:STANDARD
END:VTIMEZONE
BEGIN:VEVENT
DTSTART;TZID=Europe/Amsterdam:20260424T090000
DTEND;TZID=Europe/Amsterdam:20260424T180000
DTSTAMP:20260424T020552Z
UID:MTc3NzAxNDAwMF8xNzc3MDQ2NDAwXzJlIGphYXJsaWprc2UgU1NILUJyZWVkIFNlY3RvcnBsYW4gQ29uZmVyZW50aWUgJ0RlIGludmxvZWQgdmFuIGRpZ2l0YWxpc2VyaW5nIG9wIHdlcmssIHdlbHZhYXJ0IGVuIG9uZGVybmVtZXJzY2hhcCc=
SUMMARY:2e jaarlijkse SSH-Breed Sectorplan Conferentie &#039;De invloed van digitalisering op werk, welvaart en ondernemerschap&#039;
DESCRIPTION:Ga voor meer informatie naar https://www.tedxerasmusuniversity.org/evenementen/2e-jaarlijkse-ssh-breed-sectorplan-conferentie-de-invloed-van-digitalisering-op-werk-welvaart-en-2026-04-24
LOCATION:Kamer: Forumzaal (M3-15) | Gebouw: Van der Goot Building | Locatie: Campus Woudestein
END:VEVENT
END:VCALENDAR
