BEGIN:VCALENDAR
VERSION:2.0
PRODID:-//Erasmus University Rotterdam//Event calender//EN
X-WR-TIMEZONE:Europe/Amsterdam
X-WR-CALNAME:Erasmus University Rotterdam - Event calender
BEGIN:VTIMEZONE
TZID:Europe/Amsterdam
X-LIC-LOCATION:Europe/Amsterdam
BEGIN:DAYLIGHT
TZOFFSETFROM:+0100
TZOFFSETTO:+0200
TZNAME:CEST
DTSTART:19700329T020000
RRULE:FREQ=YEARLY;BYMONTH=3;BYDAY=-1SU
END:DAYLIGHT
BEGIN:STANDARD
TZOFFSETFROM:+0200
TZOFFSETTO:+0100
TZNAME:CET
DTSTART:19701025T030000
RRULE:FREQ=YEARLY;BYMONTH=10;BYDAY=-1SU
END:STANDARD
END:VTIMEZONE
BEGIN:VEVENT
DTSTART;TZID=Europe/Amsterdam:20260604T090000
DTEND;TZID=Europe/Amsterdam:20260604T180000
DTSTAMP:20260424T220306Z
UID:MTc4MDU1NjQwMF8xNzgwNTg4ODAwX1ZpZXJkZSBCVU5ETEUgY29uZ3JlczogRGUgYmVrb3N0aWdpbmcgdmFuIG1vcmdlbiA=
SUMMARY:Vierde BUNDLE congres: De bekostiging van morgen 
DESCRIPTION:Ga voor meer informatie naar https://www.tedxerasmusuniversity.org/evenementen/vierde-bundle-congres-de-bekostiging-van-morgen-2026-06-04
LOCATION:Gebouw: Erasmus Paviljoen | Locatie: Campus Woudestein
END:VEVENT
END:VCALENDAR
