BEGIN:VCALENDAR
VERSION:2.0
PRODID:-//Erasmus University Rotterdam//Event calender//EN
X-WR-TIMEZONE:Europe/Amsterdam
X-WR-CALNAME:Erasmus University Rotterdam - Event calender
BEGIN:VTIMEZONE
TZID:Europe/Amsterdam
X-LIC-LOCATION:Europe/Amsterdam
BEGIN:DAYLIGHT
TZOFFSETFROM:+0100
TZOFFSETTO:+0200
TZNAME:CEST
DTSTART:19700329T020000
RRULE:FREQ=YEARLY;BYMONTH=3;BYDAY=-1SU
END:DAYLIGHT
BEGIN:STANDARD
TZOFFSETFROM:+0200
TZOFFSETTO:+0100
TZNAME:CET
DTSTART:19701025T030000
RRULE:FREQ=YEARLY;BYMONTH=10;BYDAY=-1SU
END:STANDARD
END:VTIMEZONE
BEGIN:VEVENT
DTSTART;TZID=Europe/Amsterdam:20251113T103000
DTEND;TZID=Europe/Amsterdam:20251113T120000
DTSTAMP:20260424T093227Z
UID:MTc2MzAyNjIwMF8xNzYzMDMxNjAwX1Byb21vdGllIEwuQy5TLiAoTGF1cmlhbikgSGFma2VtZWlqZXI=
SUMMARY:Promotie L.C.S. (Laurian) Hafkemeijer
DESCRIPTION:For more information see https://www.tedxerasmusuniversity.org/evenementen/promotie-lcs-laurian-hafkemeijer-2025-11-13
LOCATION:Space: Senate Hall | Building: Erasmus Building | Location: Campus Woudestein
END:VEVENT
END:VCALENDAR
