BEGIN:VCALENDAR
VERSION:2.0
PRODID:-//Erasmus University Rotterdam//Event calender//EN
X-WR-TIMEZONE:Europe/Amsterdam
X-WR-CALNAME:Erasmus University Rotterdam - Event calender
BEGIN:VTIMEZONE
TZID:Europe/Amsterdam
X-LIC-LOCATION:Europe/Amsterdam
BEGIN:DAYLIGHT
TZOFFSETFROM:+0100
TZOFFSETTO:+0200
TZNAME:CEST
DTSTART:19700329T020000
RRULE:FREQ=YEARLY;BYMONTH=3;BYDAY=-1SU
END:DAYLIGHT
BEGIN:STANDARD
TZOFFSETFROM:+0200
TZOFFSETTO:+0100
TZNAME:CET
DTSTART:19701025T030000
RRULE:FREQ=YEARLY;BYMONTH=10;BYDAY=-1SU
END:STANDARD
END:VTIMEZONE
BEGIN:VEVENT
DTSTART;TZID=Europe/Amsterdam:20260617T090000
DTEND;TZID=Europe/Amsterdam:20260619T180000
DTSTAMP:20260423T183811Z
UID:MTc4MTY3OTYwMF8xNzgxODg0ODAwX0NhbGwgZm9yIHN1Ym1pc3Npb25zOiBVTklDIFRoZW1hdGljIENvbmZlcmVuY2UgMjAyNiBpbiBJc3RhbmJ1bA==
SUMMARY:Call for submissions: UNIC Thematic Conference 2026 in Istanbul
DESCRIPTION:For more information see https://www.tedxerasmusuniversity.org/evenementen/call-submissions-unic-thematic-conference-2026-istanbul-2026-06-17
LOCATION:Location: Koç University, Istanbul
END:VEVENT
END:VCALENDAR
