BEGIN:VCALENDAR
VERSION:2.0
PRODID:-//Erasmus University Rotterdam//Event calender//EN
X-WR-TIMEZONE:Europe/Amsterdam
X-WR-CALNAME:Erasmus University Rotterdam - Event calender
BEGIN:VTIMEZONE
TZID:Europe/Amsterdam
X-LIC-LOCATION:Europe/Amsterdam
BEGIN:DAYLIGHT
TZOFFSETFROM:+0100
TZOFFSETTO:+0200
TZNAME:CEST
DTSTART:19700329T020000
RRULE:FREQ=YEARLY;BYMONTH=3;BYDAY=-1SU
END:DAYLIGHT
BEGIN:STANDARD
TZOFFSETFROM:+0200
TZOFFSETTO:+0100
TZNAME:CET
DTSTART:19701025T030000
RRULE:FREQ=YEARLY;BYMONTH=10;BYDAY=-1SU
END:STANDARD
END:VTIMEZONE
BEGIN:VEVENT
DTSTART;TZID=Europe/Amsterdam:20251003T143000
DTEND;TZID=Europe/Amsterdam:20251003T170000
DTSTAMP:20260424T023255Z
UID:MTc1OTQ5NDYwMF8xNzU5NTAzNjAwX1JlY2h0ZW4gJiBBSSwgZGUganVyaXN0IHZhbiBkZSB0b2Vrb21zdA==
SUMMARY:Rechten &amp; AI, de jurist van de toekomst
DESCRIPTION:For more information see https://www.tedxerasmusuniversity.org/evenementen/rechten-ai-de-jurist-van-de-toekomst-2025-10-03
LOCATION:Location: Campus Woudestein
END:VEVENT
END:VCALENDAR
