BEGIN:VCALENDAR
VERSION:2.0
PRODID:-//Erasmus University Rotterdam//Event calender//EN
X-WR-TIMEZONE:Europe/Amsterdam
X-WR-CALNAME:Erasmus University Rotterdam - Event calender
BEGIN:VTIMEZONE
TZID:Europe/Amsterdam
X-LIC-LOCATION:Europe/Amsterdam
BEGIN:DAYLIGHT
TZOFFSETFROM:+0100
TZOFFSETTO:+0200
TZNAME:CEST
DTSTART:19700329T020000
RRULE:FREQ=YEARLY;BYMONTH=3;BYDAY=-1SU
END:DAYLIGHT
BEGIN:STANDARD
TZOFFSETFROM:+0200
TZOFFSETTO:+0100
TZNAME:CET
DTSTART:19701025T030000
RRULE:FREQ=YEARLY;BYMONTH=10;BYDAY=-1SU
END:STANDARD
END:VTIMEZONE
BEGIN:VEVENT
DTSTART;TZID=Europe/Amsterdam:20250521T190000
DTEND;TZID=Europe/Amsterdam:20250521T203000
DTSTAMP:20260423T181811Z
UID:MTc0Nzg0NjgwMF8xNzQ3ODUyMjAwX0RlIExlZXNrYWJpbmV0LWJvZWtjbHViIGxlZXN0ICdEZSBkaWVwc3QgdmVyYm9yZ2VuIGhlcmlubmVyaW5nIHZhbiBkZSBtZW5zJw==
SUMMARY:De Leeskabinet-boekclub leest &#039;De diepst verborgen herinnering van de mens&#039;
DESCRIPTION:For more information see https://www.tedxerasmusuniversity.org/evenementen/de-leeskabinet-boekclub-leest-de-diepst-verborgen-herinnering-van-de-mens-2025-05-21
LOCATION:
END:VEVENT
END:VCALENDAR
