BEGIN:VCALENDAR
VERSION:2.0
PRODID:-//Erasmus University Rotterdam//Event calender//EN
X-WR-TIMEZONE:Europe/Amsterdam
X-WR-CALNAME:Erasmus University Rotterdam - Event calender
BEGIN:VTIMEZONE
TZID:Europe/Amsterdam
X-LIC-LOCATION:Europe/Amsterdam
BEGIN:DAYLIGHT
TZOFFSETFROM:+0100
TZOFFSETTO:+0200
TZNAME:CEST
DTSTART:19700329T020000
RRULE:FREQ=YEARLY;BYMONTH=3;BYDAY=-1SU
END:DAYLIGHT
BEGIN:STANDARD
TZOFFSETFROM:+0200
TZOFFSETTO:+0100
TZNAME:CET
DTSTART:19701025T030000
RRULE:FREQ=YEARLY;BYMONTH=10;BYDAY=-1SU
END:STANDARD
END:VTIMEZONE
BEGIN:VEVENT
DTSTART;TZID=Europe/Amsterdam:20250327T110000
DTEND;TZID=Europe/Amsterdam:20250715T180000
DTSTAMP:20260423T211555Z
UID:MTc0MzA2OTYwMF8xNzUyNTk1MjAwX0V4cG9zaXRpZSBDb2JyYSDigJMgTWVuc2JlZWxkLCBWcmlqaGVpZCwgRXhwcmVzc2llIGVuIFRvbGVyYW50aWU=
SUMMARY:Expositie Cobra – Mensbeeld, Vrijheid, Expressie en Tolerantie
DESCRIPTION:Ga voor meer informatie naar https://www.tedxerasmusuniversity.org/evenementen/expositie-cobra-mensbeeld-vrijheid-expressie-en-tolerantie-2025-03-27
LOCATION:Kamer: AB-57 | Spatie: Erasmus Gallery | Locatie: Campus Woudestein
END:VEVENT
END:VCALENDAR
