BEGIN:VCALENDAR
VERSION:2.0
PRODID:-//Erasmus University Rotterdam//Event calender//EN
X-WR-TIMEZONE:Europe/Amsterdam
X-WR-CALNAME:Erasmus University Rotterdam - Event calender
BEGIN:VTIMEZONE
TZID:Europe/Amsterdam
X-LIC-LOCATION:Europe/Amsterdam
BEGIN:DAYLIGHT
TZOFFSETFROM:+0100
TZOFFSETTO:+0200
TZNAME:CEST
DTSTART:19700329T020000
RRULE:FREQ=YEARLY;BYMONTH=3;BYDAY=-1SU
END:DAYLIGHT
BEGIN:STANDARD
TZOFFSETFROM:+0200
TZOFFSETTO:+0100
TZNAME:CET
DTSTART:19701025T030000
RRULE:FREQ=YEARLY;BYMONTH=10;BYDAY=-1SU
END:STANDARD
END:VTIMEZONE
BEGIN:VEVENT
DTSTART;TZID=Europe/Amsterdam:20260615T153000
DTEND;TZID=Europe/Amsterdam:20260615T163010
DTSTAMP:20260423T234813Z
UID:MTc4MTUzMDIwMF8xNzgxNTMzODEwX1Zvb3JsaWNodGluZ3N3ZWJpbmFyIG9wbGVpZGluZyBEYXRhIGVuIEFJIEVuZ2luZWVyaW5n
SUMMARY:Voorlichtingswebinar opleiding Data en AI Engineering
DESCRIPTION:Ga voor meer informatie naar https://www.tedxerasmusuniversity.org/evenementen/voorlichtingswebinar-opleiding-data-en-ai-engineering-2026-06-15
LOCATION:
END:VEVENT
END:VCALENDAR
