BEGIN:VCALENDAR
VERSION:2.0
PRODID:-//Erasmus University Rotterdam//Event calender//EN
X-WR-TIMEZONE:Europe/Amsterdam
X-WR-CALNAME:Erasmus University Rotterdam - Event calender
BEGIN:VTIMEZONE
TZID:Europe/Amsterdam
X-LIC-LOCATION:Europe/Amsterdam
BEGIN:DAYLIGHT
TZOFFSETFROM:+0100
TZOFFSETTO:+0200
TZNAME:CEST
DTSTART:19700329T020000
RRULE:FREQ=YEARLY;BYMONTH=3;BYDAY=-1SU
END:DAYLIGHT
BEGIN:STANDARD
TZOFFSETFROM:+0200
TZOFFSETTO:+0100
TZNAME:CET
DTSTART:19701025T030000
RRULE:FREQ=YEARLY;BYMONTH=10;BYDAY=-1SU
END:STANDARD
END:VTIMEZONE
BEGIN:VEVENT
DTSTART;TZID=Europe/Amsterdam:20240913T130000
DTEND;TZID=Europe/Amsterdam:20240913T180000
DTSTAMP:20260424T050135Z
UID:MTcyNjIyNTIwMF8xNzI2MjQzMjAwX1N0dWRpZW1pZGRhZzogJ051dCBlbiBOb29kemFhayB2YW4gRW1waXJpc2NoZSBJbnppY2h0ZW4gdm9vciBKdXJpc3Rlbic=
SUMMARY:Studiemiddag: &#039;Nut en Noodzaak van Empirische Inzichten voor Juristen&#039;
DESCRIPTION:Ga voor meer informatie naar https://www.tedxerasmusuniversity.org/evenementen/studiemiddag-nut-en-noodzaak-van-empirische-inzichten-voor-juristen-2024-09-13
LOCATION:Locatie: Universiteit Utrecht Johanna Hudiggebouw
END:VEVENT
END:VCALENDAR
