BEGIN:VCALENDAR
VERSION:2.0
PRODID:-//Erasmus University Rotterdam//Event calender//EN
X-WR-TIMEZONE:Europe/Amsterdam
X-WR-CALNAME:Erasmus University Rotterdam - Event calender
BEGIN:VTIMEZONE
TZID:Europe/Amsterdam
X-LIC-LOCATION:Europe/Amsterdam
BEGIN:DAYLIGHT
TZOFFSETFROM:+0100
TZOFFSETTO:+0200
TZNAME:CEST
DTSTART:19700329T020000
RRULE:FREQ=YEARLY;BYMONTH=3;BYDAY=-1SU
END:DAYLIGHT
BEGIN:STANDARD
TZOFFSETFROM:+0200
TZOFFSETTO:+0100
TZNAME:CET
DTSTART:19701025T030000
RRULE:FREQ=YEARLY;BYMONTH=10;BYDAY=-1SU
END:STANDARD
END:VTIMEZONE
BEGIN:VEVENT
DTSTART;TZID=Europe/Amsterdam:20241002T193000
DTEND;TZID=Europe/Amsterdam:20241002T210000
DTSTAMP:20260424T050156Z
UID:MTcyNzg5MDIwMF8xNzI3ODk1NjAwX1doYXTigJlzIHRoZSBQb2ludCBvZiBJbnRlcm5hdGlvbmFsIExhdyBpbiBXYXI/
SUMMARY:What’s the Point of International Law in War?
DESCRIPTION:For more information see https://www.tedxerasmusuniversity.org/evenementen/whats-point-international-law-war-2024-10-02
LOCATION:Location: Erasmus Paviljoen
END:VEVENT
END:VCALENDAR
