BEGIN:VCALENDAR
VERSION:2.0
PRODID:-//Erasmus University Rotterdam//Event calender//EN
X-WR-TIMEZONE:Europe/Amsterdam
X-WR-CALNAME:Erasmus University Rotterdam - Event calender
BEGIN:VTIMEZONE
TZID:Europe/Amsterdam
X-LIC-LOCATION:Europe/Amsterdam
BEGIN:DAYLIGHT
TZOFFSETFROM:+0100
TZOFFSETTO:+0200
TZNAME:CEST
DTSTART:19700329T020000
RRULE:FREQ=YEARLY;BYMONTH=3;BYDAY=-1SU
END:DAYLIGHT
BEGIN:STANDARD
TZOFFSETFROM:+0200
TZOFFSETTO:+0100
TZNAME:CET
DTSTART:19701025T030000
RRULE:FREQ=YEARLY;BYMONTH=10;BYDAY=-1SU
END:STANDARD
END:VTIMEZONE
BEGIN:VEVENT
DTSTART;TZID=Europe/Amsterdam:20240923T100000
DTEND;TZID=Europe/Amsterdam:20240923T120000
DTSTAMP:20260424T093226Z
UID:MTcyNzA3ODQwMF8xNzI3MDg1NjAwX1dhdCBiZXRla2VudCBoZXQgdm9vciBvbmRlcnpvZWsgb20gbmlldC1hY2FkZW1pY2kgYWFuIHRhZmVsIHVpdCB0ZSBub2RpZ2VuPw==
SUMMARY:Wat betekent het voor onderzoek om niet-academici aan tafel uit te nodigen?
DESCRIPTION:Ga voor meer informatie naar https://www.tedxerasmusuniversity.org/evenementen/wat-betekent-het-voor-onderzoek-om-niet-academici-aan-tafel-uit-te-nodigen-2024-09-23
LOCATION:Locatie: Q-building (lounge/begane grond), campus Woudestein
END:VEVENT
END:VCALENDAR
