BEGIN:VCALENDAR
VERSION:2.0
PRODID:-//Erasmus University Rotterdam//Event calender//EN
X-WR-TIMEZONE:Europe/Amsterdam
X-WR-CALNAME:Erasmus University Rotterdam - Event calender
BEGIN:VTIMEZONE
TZID:Europe/Amsterdam
X-LIC-LOCATION:Europe/Amsterdam
BEGIN:DAYLIGHT
TZOFFSETFROM:+0100
TZOFFSETTO:+0200
TZNAME:CEST
DTSTART:19700329T020000
RRULE:FREQ=YEARLY;BYMONTH=3;BYDAY=-1SU
END:DAYLIGHT
BEGIN:STANDARD
TZOFFSETFROM:+0200
TZOFFSETTO:+0100
TZNAME:CET
DTSTART:19701025T030000
RRULE:FREQ=YEARLY;BYMONTH=10;BYDAY=-1SU
END:STANDARD
END:VTIMEZONE
BEGIN:VEVENT
DTSTART;TZID=Europe/Amsterdam:20240910T200000
DTEND;TZID=Europe/Amsterdam:20240910T213000
DTSTAMP:20260424T093226Z
UID:MTcyNTk5MTIwMF8xNzI1OTk2NjAwX0dyZWcgU2hhcGlybzogTGVhdmluZyBUcnVtcGxhbmQgMi4w
SUMMARY:Greg Shapiro: Leaving Trumpland 2.0
DESCRIPTION:For more information see https://www.tedxerasmusuniversity.org/evenementen/greg-shapiro-leaving-trumpland-20-2024-09-10
LOCATION:Location: Erasmus Paviljoen
END:VEVENT
END:VCALENDAR
