BEGIN:VCALENDAR
VERSION:2.0
PRODID:-//Erasmus University Rotterdam//Event calender//EN
X-WR-TIMEZONE:Europe/Amsterdam
X-WR-CALNAME:Erasmus University Rotterdam - Event calender
BEGIN:VTIMEZONE
TZID:Europe/Amsterdam
X-LIC-LOCATION:Europe/Amsterdam
BEGIN:DAYLIGHT
TZOFFSETFROM:+0100
TZOFFSETTO:+0200
TZNAME:CEST
DTSTART:19700329T020000
RRULE:FREQ=YEARLY;BYMONTH=3;BYDAY=-1SU
END:DAYLIGHT
BEGIN:STANDARD
TZOFFSETFROM:+0200
TZOFFSETTO:+0100
TZNAME:CET
DTSTART:19701025T030000
RRULE:FREQ=YEARLY;BYMONTH=10;BYDAY=-1SU
END:STANDARD
END:VTIMEZONE
BEGIN:VEVENT
DTSTART;TZID=Europe/Amsterdam:20240529T090000
DTEND;TZID=Europe/Amsterdam:20240529T115959
DTSTAMP:20260424T055754Z
UID:MTcxNjk2NjAwMF8xNzE2OTc2Nzk5X1dvcmtzaG9wIFR1c3NlbiBhdXRvY3JhdGlzY2ggbGVnYWxpc21lIGVuIHJlY2h0c2UganVyaWRpc2NoZSBtb2JpbGlzYXRpZS4=
SUMMARY:Workshop Tussen autocratisch legalisme en rechtse juridische mobilisatie.
DESCRIPTION:For more information see https://www.tedxerasmusuniversity.org/evenementen/workshop-tussen-autocratisch-legalisme-en-rechtse-juridische-mobilisatie-2024-05-29
LOCATION:Location: European University Institute, Florence
END:VEVENT
END:VCALENDAR
