BEGIN:VCALENDAR
VERSION:2.0
PRODID:-//Erasmus University Rotterdam//Event calender//EN
X-WR-TIMEZONE:Europe/Amsterdam
X-WR-CALNAME:Erasmus University Rotterdam - Event calender
BEGIN:VTIMEZONE
TZID:Europe/Amsterdam
X-LIC-LOCATION:Europe/Amsterdam
BEGIN:DAYLIGHT
TZOFFSETFROM:+0100
TZOFFSETTO:+0200
TZNAME:CEST
DTSTART:19700329T020000
RRULE:FREQ=YEARLY;BYMONTH=3;BYDAY=-1SU
END:DAYLIGHT
BEGIN:STANDARD
TZOFFSETFROM:+0200
TZOFFSETTO:+0100
TZNAME:CET
DTSTART:19701025T030000
RRULE:FREQ=YEARLY;BYMONTH=10;BYDAY=-1SU
END:STANDARD
END:VTIMEZONE
BEGIN:VEVENT
DTSTART;TZID=Europe/Amsterdam:20240626T090000
DTEND;TZID=Europe/Amsterdam:20240627T170000
DTSTAMP:20260424T041613Z
UID:MTcxOTM4NTIwMF8xNzE5NTAwNDAwX0NvbmZlcmVuY2Ug4oCcTGF3LCBSZWd1bGF0aW9uIGFuZCBUZWNobm9sb2d5OiBIZWFsdGh5LCBTYWZlLCBhbmQgU3VzdGFpbmFibGUgU21hcnQgQ2l0aWVz4oCdIA==
SUMMARY:Conference “Law, Regulation and Technology: Healthy, Safe, and Sustainable Smart Cities” 
DESCRIPTION:For more information see https://www.tedxerasmusuniversity.org/en/events/conference-law-regulation-and-technology-healthy-safe-and-sustainable-smart-cities-2024-06-26
LOCATION:
END:VEVENT
END:VCALENDAR
