BEGIN:VCALENDAR
VERSION:2.0
PRODID:-//Erasmus University Rotterdam//Event calender//EN
X-WR-TIMEZONE:Europe/Amsterdam
X-WR-CALNAME:Erasmus University Rotterdam - Event calender
BEGIN:VTIMEZONE
TZID:Europe/Amsterdam
X-LIC-LOCATION:Europe/Amsterdam
BEGIN:DAYLIGHT
TZOFFSETFROM:+0100
TZOFFSETTO:+0200
TZNAME:CEST
DTSTART:19700329T020000
RRULE:FREQ=YEARLY;BYMONTH=3;BYDAY=-1SU
END:DAYLIGHT
BEGIN:STANDARD
TZOFFSETFROM:+0200
TZOFFSETTO:+0100
TZNAME:CET
DTSTART:19701025T030000
RRULE:FREQ=YEARLY;BYMONTH=10;BYDAY=-1SU
END:STANDARD
END:VTIMEZONE
BEGIN:VEVENT
DTSTART;TZID=Europe/Amsterdam:20231123T123000
DTEND;TZID=Europe/Amsterdam:20231124T190000
DTSTAMP:20260424T055621Z
UID:MTcwMDczOTAwMF8xNzAwODQ4ODAwX0p1c3RpY2UgaW4gaW50ZXJuYXRpb25hbCBpbnZlc3RtZW50IGxhdyBpbiBhIHBvc3QtSVNEUyB3b3JsZA==
SUMMARY:Justice in international investment law in a post-ISDS world
DESCRIPTION:For more information see https://www.tedxerasmusuniversity.org/en/events/justice-international-investment-law-post-isds-world-2023-11-23
LOCATION:Room: C2-6 | Building: Theil Building | Location: Campus Woudestein
END:VEVENT
END:VCALENDAR
