BEGIN:VCALENDAR
VERSION:2.0
PRODID:-//Erasmus University Rotterdam//Event calender//EN
X-WR-TIMEZONE:Europe/Amsterdam
X-WR-CALNAME:Erasmus University Rotterdam - Event calender
BEGIN:VTIMEZONE
TZID:Europe/Amsterdam
X-LIC-LOCATION:Europe/Amsterdam
BEGIN:DAYLIGHT
TZOFFSETFROM:+0100
TZOFFSETTO:+0200
TZNAME:CEST
DTSTART:19700329T020000
RRULE:FREQ=YEARLY;BYMONTH=3;BYDAY=-1SU
END:DAYLIGHT
BEGIN:STANDARD
TZOFFSETFROM:+0200
TZOFFSETTO:+0100
TZNAME:CET
DTSTART:19701025T030000
RRULE:FREQ=YEARLY;BYMONTH=10;BYDAY=-1SU
END:STANDARD
END:VTIMEZONE
BEGIN:VEVENT
DTSTART;TZID=Europe/Amsterdam:20230511T110000
DTEND;TZID=Europe/Amsterdam:20230511T130000
DTSTAMP:20260423T230237Z
UID:MTY4Mzc5NTYwMF8xNjgzODAyODAwX0NhbiB3ZSB1c2UgQ2hhdEdQVCBpbiBzdWNoIGEgd2F5IHRoYXQgaXQgbWVldHMgYWNhZGVtaWMgc3RhbmRhcmRzPyA=
SUMMARY:Can we use ChatGPT in such a way that it meets academic standards? 
DESCRIPTION:For more information see https://www.tedxerasmusuniversity.org/evenementen/can-we-use-chatgpt-such-way-it-meets-academic-standards-2023-05-11
LOCATION:Space: Education Lab
END:VEVENT
END:VCALENDAR
