BEGIN:VCALENDAR
VERSION:2.0
PRODID:-//Erasmus University Rotterdam//Event calender//EN
X-WR-TIMEZONE:Europe/Amsterdam
X-WR-CALNAME:Erasmus University Rotterdam - Event calender
BEGIN:VTIMEZONE
TZID:Europe/Amsterdam
X-LIC-LOCATION:Europe/Amsterdam
BEGIN:DAYLIGHT
TZOFFSETFROM:+0100
TZOFFSETTO:+0200
TZNAME:CEST
DTSTART:19700329T020000
RRULE:FREQ=YEARLY;BYMONTH=3;BYDAY=-1SU
END:DAYLIGHT
BEGIN:STANDARD
TZOFFSETFROM:+0200
TZOFFSETTO:+0100
TZNAME:CET
DTSTART:19701025T030000
RRULE:FREQ=YEARLY;BYMONTH=10;BYDAY=-1SU
END:STANDARD
END:VTIMEZONE
BEGIN:VEVENT
DTSTART;TZID=Europe/Amsterdam:20180903T111530
DTEND;TZID=Europe/Amsterdam:20180903T130037
DTSTAMP:20260424T014501Z
UID:MTUzNTk2NjEzMF8xNTM1OTcyNDM3X0ZlZXN0ZWxpamtlIG9udGh1bGxpbmcgJ0RlciBTdGVpbiBkZXMgV2Vpc2VuJw==
SUMMARY:Feestelijke onthulling &#039;Der Stein des Weisen&#039;
DESCRIPTION:For more information see https://www.tedxerasmusuniversity.org/evenementen/feestelijke-onthulling-der-stein-des-weisen-2018-09-03
LOCATION:
END:VEVENT
END:VCALENDAR
