BEGIN:VCALENDAR
VERSION:2.0
PRODID:-//Erasmus University Rotterdam//Event calender//EN
X-WR-TIMEZONE:Europe/Amsterdam
X-WR-CALNAME:Erasmus University Rotterdam - Event calender
BEGIN:VTIMEZONE
TZID:Europe/Amsterdam
X-LIC-LOCATION:Europe/Amsterdam
BEGIN:DAYLIGHT
TZOFFSETFROM:+0100
TZOFFSETTO:+0200
TZNAME:CEST
DTSTART:19700329T020000
RRULE:FREQ=YEARLY;BYMONTH=3;BYDAY=-1SU
END:DAYLIGHT
BEGIN:STANDARD
TZOFFSETFROM:+0200
TZOFFSETTO:+0100
TZNAME:CET
DTSTART:19701025T030000
RRULE:FREQ=YEARLY;BYMONTH=10;BYDAY=-1SU
END:STANDARD
END:VTIMEZONE
BEGIN:VEVENT
DTSTART;TZID=Europe/Amsterdam:20260519T130000
DTEND;TZID=Europe/Amsterdam:20260519T143000
DTSTAMP:20260424T202554Z
UID:MTc3OTE4ODQwMF8xNzc5MTkzODAwX1Byb21vdGllIE0uTS4gKE1hcmxlZW4pIHZhbiBkZW4gSGV1dmVs
SUMMARY:Promotie M.M. (Marleen) van den Heuvel
DESCRIPTION:Ga voor meer informatie naar https://www.tedxerasmusuniversity.org/evenementen/promotie-mm-marleen-van-den-heuvel-2026-05-19
LOCATION:Spatie: Professor Andries Querido zaal | Gebouw: Onderwijscentrum | Locatie: Erasmus MC
END:VEVENT
END:VCALENDAR
