BEGIN:VCALENDAR
VERSION:2.0
PRODID:-//Erasmus University Rotterdam//Event calender//EN
X-WR-TIMEZONE:Europe/Amsterdam
X-WR-CALNAME:Erasmus University Rotterdam - Event calender
BEGIN:VTIMEZONE
TZID:Europe/Amsterdam
X-LIC-LOCATION:Europe/Amsterdam
BEGIN:DAYLIGHT
TZOFFSETFROM:+0100
TZOFFSETTO:+0200
TZNAME:CEST
DTSTART:19700329T020000
RRULE:FREQ=YEARLY;BYMONTH=3;BYDAY=-1SU
END:DAYLIGHT
BEGIN:STANDARD
TZOFFSETFROM:+0200
TZOFFSETTO:+0100
TZNAME:CET
DTSTART:19701025T030000
RRULE:FREQ=YEARLY;BYMONTH=10;BYDAY=-1SU
END:STANDARD
END:VTIMEZONE
BEGIN:VEVENT
DTSTART;TZID=Europe/Amsterdam:20260713T090000
DTEND;TZID=Europe/Amsterdam:20260717T160000
DTSTAMP:20260423T211529Z
UID:MTc4MzkyNjAwMF8xNzg0Mjk2ODAwX0VyYXNtdXMgTUMgU3VtbWVyc2Nob29sIDIwMjY=
SUMMARY:Erasmus MC Summerschool 2026
DESCRIPTION:Ga voor meer informatie naar https://www.tedxerasmusuniversity.org/evenementen/erasmus-mc-summerschool-2026-2026-07-13
LOCATION:Locatie: Erasmus MC
END:VEVENT
END:VCALENDAR
