BEGIN:VCALENDAR
VERSION:2.0
PRODID:-//Erasmus University Rotterdam//Event calender//EN
X-WR-TIMEZONE:Europe/Amsterdam
X-WR-CALNAME:Erasmus University Rotterdam - Event calender
BEGIN:VTIMEZONE
TZID:Europe/Amsterdam
X-LIC-LOCATION:Europe/Amsterdam
BEGIN:DAYLIGHT
TZOFFSETFROM:+0100
TZOFFSETTO:+0200
TZNAME:CEST
DTSTART:19700329T020000
RRULE:FREQ=YEARLY;BYMONTH=3;BYDAY=-1SU
END:DAYLIGHT
BEGIN:STANDARD
TZOFFSETFROM:+0200
TZOFFSETTO:+0100
TZNAME:CET
DTSTART:19701025T030000
RRULE:FREQ=YEARLY;BYMONTH=10;BYDAY=-1SU
END:STANDARD
END:VTIMEZONE
BEGIN:VEVENT
DTSTART;TZID=Europe/Amsterdam:20260508T130000
DTEND;TZID=Europe/Amsterdam:20260508T143000
DTSTAMP:20260423T195456Z
UID:MTc3ODIzODAwMF8xNzc4MjQzNDAwX1Byb21vdGllIEUuTS5OLiAoRWxlbmEpIEVuc2XDsWFkb+KAryA=
SUMMARY:Promotie E.M.N. (Elena) Enseñado  
DESCRIPTION:Ga voor meer informatie naar https://www.tedxerasmusuniversity.org/evenementen/promotie-emn-elena-ensenado-2026-05-08
LOCATION:Spatie: Senaatszaal | Gebouw: Erasmus Gebouw | Locatie: Campus Woudestein
END:VEVENT
END:VCALENDAR
