BEGIN:VCALENDAR
VERSION:2.0
PRODID:-//Erasmus University Rotterdam//Event calender//EN
X-WR-TIMEZONE:Europe/Amsterdam
X-WR-CALNAME:Erasmus University Rotterdam - Event calender
BEGIN:VTIMEZONE
TZID:Europe/Amsterdam
X-LIC-LOCATION:Europe/Amsterdam
BEGIN:DAYLIGHT
TZOFFSETFROM:+0100
TZOFFSETTO:+0200
TZNAME:CEST
DTSTART:19700329T020000
RRULE:FREQ=YEARLY;BYMONTH=3;BYDAY=-1SU
END:DAYLIGHT
BEGIN:STANDARD
TZOFFSETFROM:+0200
TZOFFSETTO:+0100
TZNAME:CET
DTSTART:19701025T030000
RRULE:FREQ=YEARLY;BYMONTH=10;BYDAY=-1SU
END:STANDARD
END:VTIMEZONE
BEGIN:VEVENT
DTSTART;TZID=Europe/Amsterdam:20260424T150000
DTEND;TZID=Europe/Amsterdam:20260425T030000
DTSTAMP:20260423T164708Z
UID:MTc3NzAzNTYwMF8xNzc3MDc4ODAwX1NBQk9SQSBEQVkg4oCYTiBOSUdIVA==
SUMMARY:SABORA DAY ‘N NIGHT
DESCRIPTION:For more information see https://www.tedxerasmusuniversity.org/evenementen/sabora-day-n-night-2026-04-24
LOCATION:Location: Afternoon: Studio De Zolder // Evening: OASE
END:VEVENT
END:VCALENDAR
