BEGIN:VCALENDAR
VERSION:2.0
PRODID:-//Erasmus University Rotterdam//Event calender//EN
X-WR-TIMEZONE:Europe/Amsterdam
X-WR-CALNAME:Erasmus University Rotterdam - Event calender
BEGIN:VTIMEZONE
TZID:Europe/Amsterdam
X-LIC-LOCATION:Europe/Amsterdam
BEGIN:DAYLIGHT
TZOFFSETFROM:+0100
TZOFFSETTO:+0200
TZNAME:CEST
DTSTART:19700329T020000
RRULE:FREQ=YEARLY;BYMONTH=3;BYDAY=-1SU
END:DAYLIGHT
BEGIN:STANDARD
TZOFFSETFROM:+0200
TZOFFSETTO:+0100
TZNAME:CET
DTSTART:19701025T030000
RRULE:FREQ=YEARLY;BYMONTH=10;BYDAY=-1SU
END:STANDARD
END:VTIMEZONE
BEGIN:VEVENT
DTSTART;TZID=Europe/Amsterdam:20260623T093000
DTEND;TZID=Europe/Amsterdam:20260623T170000
DTSTAMP:20260423T150745Z
UID:MTc4MjE5OTgwMF8xNzgyMjI2ODAwX1JJTk7igK8mIE9SSeKAr1N1bW1lciBFdmVudCAyMDI24oCv4oCT4oCvQXJlIHdlIHJlYWR5IHRvIG9wZW4geWV0Pw==
SUMMARY:RINN &amp; ORI Summer Event 2026 – Are we ready to open yet?
DESCRIPTION:Ga voor meer informatie naar https://www.tedxerasmusuniversity.org/evenementen/rinn-ori-summer-event-2026-are-we-ready-open-yet-2026-06-23
LOCATION:Locatie: Erasmus Universiteit Rotterdam, Campus Woudestein, Langeveld Building, begane grond, zaal 0.18  
END:VEVENT
END:VCALENDAR
