BEGIN:VCALENDAR
VERSION:2.0
PRODID:-//Erasmus University Rotterdam//Event calender//EN
X-WR-TIMEZONE:Europe/Amsterdam
X-WR-CALNAME:Erasmus University Rotterdam - Event calender
BEGIN:VTIMEZONE
TZID:Europe/Amsterdam
X-LIC-LOCATION:Europe/Amsterdam
BEGIN:DAYLIGHT
TZOFFSETFROM:+0100
TZOFFSETTO:+0200
TZNAME:CEST
DTSTART:19700329T020000
RRULE:FREQ=YEARLY;BYMONTH=3;BYDAY=-1SU
END:DAYLIGHT
BEGIN:STANDARD
TZOFFSETFROM:+0200
TZOFFSETTO:+0100
TZNAME:CET
DTSTART:19701025T030000
RRULE:FREQ=YEARLY;BYMONTH=10;BYDAY=-1SU
END:STANDARD
END:VTIMEZONE
BEGIN:VEVENT
DTSTART;TZID=Europe/Amsterdam:20260512T143000
DTEND;TZID=Europe/Amsterdam:20260512T170000
DTSTAMP:20260424T002326Z
UID:MTc3ODU4OTAwMF8xNzc4NTk4MDAwX1N5bXBvc2l1bSDigJxEYXJrd2ViIGluIGRlIHJlY2h0c3phYWw6IGJld2lqcywgaW5maWx0cmF0aWUgZW4gaW50ZXJuYXRpb25hbGUgc2FtZW53ZXJraW5nLuKAnQ==
SUMMARY:Symposium “Darkweb in de rechtszaal: bewijs, infiltratie en internationale samenwerking.”
DESCRIPTION:Ga voor meer informatie naar https://www.tedxerasmusuniversity.org/evenementen/symposium-darkweb-de-rechtszaal-bewijs-infiltratie-en-internationale-samenwerking-2026-05-12
LOCATION:Kamer: Theil C2-2 
END:VEVENT
END:VCALENDAR
