BEGIN:VCALENDAR
VERSION:2.0
PRODID:-//Erasmus University Rotterdam//Event calender//EN
X-WR-TIMEZONE:Europe/Amsterdam
X-WR-CALNAME:Erasmus University Rotterdam - Event calender
BEGIN:VTIMEZONE
TZID:Europe/Amsterdam
X-LIC-LOCATION:Europe/Amsterdam
BEGIN:DAYLIGHT
TZOFFSETFROM:+0100
TZOFFSETTO:+0200
TZNAME:CEST
DTSTART:19700329T020000
RRULE:FREQ=YEARLY;BYMONTH=3;BYDAY=-1SU
END:DAYLIGHT
BEGIN:STANDARD
TZOFFSETFROM:+0200
TZOFFSETTO:+0100
TZNAME:CET
DTSTART:19701025T030000
RRULE:FREQ=YEARLY;BYMONTH=10;BYDAY=-1SU
END:STANDARD
END:VTIMEZONE
BEGIN:VEVENT
DTSTART;TZID=Europe/Amsterdam:20260619T200000
DTEND;TZID=Europe/Amsterdam:20260621T173000
DTSTAMP:20260423T195435Z
UID:MTc4MTg5MjAwMF8xNzgyMDU1ODAwX1JJU0sgc3BlZWx0IExldCBTbGVlcGluZyBEb2dzIExpZQ==
SUMMARY:RISK speelt Let Sleeping Dogs Lie
DESCRIPTION:For more information see https://www.tedxerasmusuniversity.org/evenementen/risk-speelt-let-sleeping-dogs-lie-2026-06-19
LOCATION:Location: Theater &#039;t Kapelletje, Rotterdam
END:VEVENT
END:VCALENDAR
