BEGIN:VCALENDAR
VERSION:2.0
PRODID:-//Erasmus University Rotterdam//Event calender//EN
X-WR-TIMEZONE:Europe/Amsterdam
X-WR-CALNAME:Erasmus University Rotterdam - Event calender
BEGIN:VTIMEZONE
TZID:Europe/Amsterdam
X-LIC-LOCATION:Europe/Amsterdam
BEGIN:DAYLIGHT
TZOFFSETFROM:+0100
TZOFFSETTO:+0200
TZNAME:CEST
DTSTART:19700329T020000
RRULE:FREQ=YEARLY;BYMONTH=3;BYDAY=-1SU
END:DAYLIGHT
BEGIN:STANDARD
TZOFFSETFROM:+0200
TZOFFSETTO:+0100
TZNAME:CET
DTSTART:19701025T030000
RRULE:FREQ=YEARLY;BYMONTH=10;BYDAY=-1SU
END:STANDARD
END:VTIMEZONE
BEGIN:VEVENT
DTSTART;TZID=Europe/Amsterdam:20260601T084500
DTEND;TZID=Europe/Amsterdam:20260601T180000
DTSTAMP:20260423T195456Z
UID:MTc4MDI5NjMwMF8xNzgwMzI5NjAwX0h1bWFuIFJpZ2h0cyBEdWUgRGlsaWdlbmNlIEJleW9uZCBDb21wbGlhbmNlIC0gVXAgYW5kIERvd24gdGhlIFZhbHVlIENoYWlu
SUMMARY:Human Rights Due Diligence Beyond Compliance - Up and Down the Value Chain
DESCRIPTION:For more information see https://www.tedxerasmusuniversity.org/en/events/human-rights-due-diligence-beyond-compliance-and-down-value-chain-2026-06-01
LOCATION:
END:VEVENT
END:VCALENDAR
