BEGIN:VCALENDAR
VERSION:2.0
PRODID:-//Erasmus University Rotterdam//Event calender//EN
X-WR-TIMEZONE:Europe/Amsterdam
X-WR-CALNAME:Erasmus University Rotterdam - Event calender
BEGIN:VTIMEZONE
TZID:Europe/Amsterdam
X-LIC-LOCATION:Europe/Amsterdam
BEGIN:DAYLIGHT
TZOFFSETFROM:+0100
TZOFFSETTO:+0200
TZNAME:CEST
DTSTART:19700329T020000
RRULE:FREQ=YEARLY;BYMONTH=3;BYDAY=-1SU
END:DAYLIGHT
BEGIN:STANDARD
TZOFFSETFROM:+0200
TZOFFSETTO:+0100
TZNAME:CET
DTSTART:19701025T030000
RRULE:FREQ=YEARLY;BYMONTH=10;BYDAY=-1SU
END:STANDARD
END:VTIMEZONE
BEGIN:VEVENT
DTSTART;TZID=Europe/Amsterdam:20260513T140000
DTEND;TZID=Europe/Amsterdam:20260611T140000
DTSTAMP:20260424T002326Z
UID:MTc3ODY3MzYwMF8xNzgxMTc5MjAwX01hc3RlcmNvdXJzZTogZGUgUm90dGVyZGFtc2Ugc2NoYWFs
SUMMARY:Mastercourse: de Rotterdamse schaal
DESCRIPTION:Ga voor meer informatie naar https://www.tedxerasmusuniversity.org/evenementen/mastercourse-de-rotterdamse-schaal-2026-05-13
LOCATION:Locatie: Mandeville Building (T) op de Erasmus Universiteit Rotterdam, campus Woudestein, Burgemeester Oudlaan 50 in Rotterdam 
END:VEVENT
END:VCALENDAR
