BEGIN:VCALENDAR
VERSION:2.0
PRODID:-//Erasmus University Rotterdam//Event calender//EN
X-WR-TIMEZONE:Europe/Amsterdam
X-WR-CALNAME:Erasmus University Rotterdam - Event calender
BEGIN:VTIMEZONE
TZID:Europe/Amsterdam
X-LIC-LOCATION:Europe/Amsterdam
BEGIN:DAYLIGHT
TZOFFSETFROM:+0100
TZOFFSETTO:+0200
TZNAME:CEST
DTSTART:19700329T020000
RRULE:FREQ=YEARLY;BYMONTH=3;BYDAY=-1SU
END:DAYLIGHT
BEGIN:STANDARD
TZOFFSETFROM:+0200
TZOFFSETTO:+0100
TZNAME:CET
DTSTART:19701025T030000
RRULE:FREQ=YEARLY;BYMONTH=10;BYDAY=-1SU
END:STANDARD
END:VTIMEZONE
BEGIN:VEVENT
DTSTART;TZID=Europe/Amsterdam:20260429T170000
DTEND;TZID=Europe/Amsterdam:20260429T181500
DTSTAMP:20260423T163610Z
UID:MTc3NzQ3NDgwMF8xNzc3NDc5MzAwX1JlYWRpbmcgV2l0aG91dCBCb3JkZXJzIEJvb2sgQ2x1YiBsZWVzdDogRHJpdmUgWW91ciBQbG93IE92ZXIgdGhlIEJvbmVzIG9mIHRoZSBEZWFkIHZhbiBPbGdhIFRva2FyY3p1aw==
SUMMARY:Reading Without Borders Book Club leest: Drive Your Plow Over the Bones of the Dead van Olga Tokarczuk
DESCRIPTION:Ga voor meer informatie naar https://www.tedxerasmusuniversity.org/evenementen/reading-without-borders-book-club-leest-drive-your-plow-over-bones-dead-van-olga-tokarczuk-2026-04-29
LOCATION:
END:VEVENT
END:VCALENDAR
