BEGIN:VCALENDAR
VERSION:2.0
PRODID:-//Erasmus University Rotterdam//Event calender//EN
X-WR-TIMEZONE:Europe/Amsterdam
X-WR-CALNAME:Erasmus University Rotterdam - Event calender
BEGIN:VTIMEZONE
TZID:Europe/Amsterdam
X-LIC-LOCATION:Europe/Amsterdam
BEGIN:DAYLIGHT
TZOFFSETFROM:+0100
TZOFFSETTO:+0200
TZNAME:CEST
DTSTART:19700329T020000
RRULE:FREQ=YEARLY;BYMONTH=3;BYDAY=-1SU
END:DAYLIGHT
BEGIN:STANDARD
TZOFFSETFROM:+0200
TZOFFSETTO:+0100
TZNAME:CET
DTSTART:19701025T030000
RRULE:FREQ=YEARLY;BYMONTH=10;BYDAY=-1SU
END:STANDARD
END:VTIMEZONE
BEGIN:VEVENT
DTSTART;TZID=Europe/Amsterdam:20260610T150000
DTEND;TZID=Europe/Amsterdam:20260611T235959
DTSTAMP:20260423T195715Z
UID:MTc4MTA5NjQwMF8xNzgxMjE1MTk5XzIwMjYgQW5udWFsIFRvb2dkYWc6IFNhZmVndWFyZGluZyBIdW1hbiBSaWdodHMgaW4gdGhlIFRlY2hub2xvZ2ljYWwgQWdl
SUMMARY:2026 Annual Toogdag: Safeguarding Human Rights in the Technological Age
DESCRIPTION:For more information see https://www.tedxerasmusuniversity.org/en/events/2026-annual-toogdag-safeguarding-human-rights-technological-age-2026-06-10
LOCATION:
END:VEVENT
END:VCALENDAR
